BEGIN:VCALENDAR
VERSION:2.0
METHOD:PUBLISH
PRODID:-//Accessible Web Design//My Calendar//http://www.joedolson.com//v//EN';
BEGIN:VEVENT
UID:25-20
LOCATION:かながわ県民センター 鶴屋町２−２４−２  横浜市神奈川区 神奈川県 221-0835
SUMMARY:2018年9月度ミーティング
DTSTAMP:20180901T180000
ORGANIZER;CN=wpmaster:MAILTO:nochi@seabird.jp.net
DTSTART:20180901T180000
DTEND:20180901T190000
CATEGORIES:クラブラン
URL;VALUE=URI:http://ymcc.yokohama/?page_id=89&#038;mc_id=25&#038;vcal=25
DESCRIPTION:開催日：2018年9月01日（土）18：00開場 場　所：かながわ県民センター602会議室 内　容：8月度クラ&hellip;
END:VEVENT
END:VCALENDAR