BEGIN:VCALENDAR
VERSION:2.0
METHOD:PUBLISH
PRODID:-//Accessible Web Design//My Calendar//http://www.joedolson.com//v//EN';
BEGIN:VEVENT
UID:24-19
LOCATION:
SUMMARY:2018年8月度クラブラン「牛久沼を巡るラン」
DTSTAMP:20180826T093000
ORGANIZER;CN=wpmaster:MAILTO:nochi@seabird.jp.net
DTSTART:20180826T093000
DTEND:20180826T103000
CATEGORIES:クラブラン
URL;VALUE=URI:http://ymcc.yokohama/?page_id=89&#038;mc_id=24&#038;vcal=24
DESCRIPTION:8月クラブラン「牛久沼をめぐるラン」を下記のとおり開催します。 茨城県牛久方面の湖沼河川、丘陵地、農業地区をめ&hellip;
END:VEVENT
END:VCALENDAR