BEGIN:VCALENDAR
VERSION:2.0
METHOD:PUBLISH
PRODID:-//Accessible Web Design//My Calendar//http://www.joedolson.com//v//EN';
BEGIN:VEVENT
UID:23-18
LOCATION:
SUMMARY:スペシャルクラブラン「奥の細道・日光〜那須」
DTSTAMP:20180908T103000
ORGANIZER;CN=wpmaster:MAILTO:nochi@seabird.jp.net
DTSTART:20180908T103000
DTEND:20180908T170000
CATEGORIES:クラブラン
URL;VALUE=URI:http://ymcc.yokohama/?page_id=89&#038;mc_id=23&#038;vcal=23
DESCRIPTION:芭蕉と曽良が歩いた旅を自転車で行き追想します。 ◎開催日：2018年9月08日（土） ◎集　合：東武日光線 日&hellip;
END:VEVENT
END:VCALENDAR