BEGIN:VCALENDAR
VERSION:2.0
METHOD:PUBLISH
PRODID:-//Accessible Web Design//My Calendar//http://www.joedolson.com//v//EN';
BEGIN:VEVENT
UID:22-17
LOCATION:
SUMMARY:2018年7月度クラブラン『服部牧場からヤビツ峠コース』
DTSTAMP:20180729T090000
ORGANIZER;CN=wpmaster:MAILTO:nochi@seabird.jp.net
DTSTART:20180729T090000
DTEND:20180729T160000
CATEGORIES:クラブラン
URL;VALUE=URI:http://ymcc.yokohama/?page_id=89&#038;mc_id=22&#038;vcal=22
DESCRIPTION:YMCCの夏の風物詩ランとして毎年計画しています。 以前に参加したことがある方は、懐かしいコースとして、初めて&hellip;
END:VEVENT
END:VCALENDAR